BEGIN:VCALENDAR
VERSION:2.0
PRODID:-//Arbeitgeber Nordhessen - ECPv6.15.20//NONSGML v1.0//EN
CALSCALE:GREGORIAN
METHOD:PUBLISH
X-WR-CALNAME:Arbeitgeber Nordhessen
X-ORIGINAL-URL:https://arbeitgeber-nordhessen.de
X-WR-CALDESC:Veranstaltungen für Arbeitgeber Nordhessen
REFRESH-INTERVAL;VALUE=DURATION:PT1H
X-Robots-Tag:noindex
X-PUBLISHED-TTL:PT1H
BEGIN:VTIMEZONE
TZID:Europe/Berlin
BEGIN:DAYLIGHT
TZOFFSETFROM:+0100
TZOFFSETTO:+0200
TZNAME:CEST
DTSTART:20240331T010000
END:DAYLIGHT
BEGIN:STANDARD
TZOFFSETFROM:+0200
TZOFFSETTO:+0100
TZNAME:CET
DTSTART:20241027T010000
END:STANDARD
BEGIN:DAYLIGHT
TZOFFSETFROM:+0100
TZOFFSETTO:+0200
TZNAME:CEST
DTSTART:20250330T010000
END:DAYLIGHT
BEGIN:STANDARD
TZOFFSETFROM:+0200
TZOFFSETTO:+0100
TZNAME:CET
DTSTART:20251026T010000
END:STANDARD
BEGIN:DAYLIGHT
TZOFFSETFROM:+0100
TZOFFSETTO:+0200
TZNAME:CEST
DTSTART:20260329T010000
END:DAYLIGHT
BEGIN:STANDARD
TZOFFSETFROM:+0200
TZOFFSETTO:+0100
TZNAME:CET
DTSTART:20261025T010000
END:STANDARD
END:VTIMEZONE
BEGIN:VEVENT
DTSTART;TZID=Europe/Berlin:20250819T100000
DTEND;TZID=Europe/Berlin:20250819T110000
DTSTAMP:20260419T151710
CREATED:20250731T063553Z
LAST-MODIFIED:20250731T063553Z
UID:4410029-1755597600-1755601200@arbeitgeber-nordhessen.de
SUMMARY:Online-Förderimpuls: EDITH Services „CYBERSECURITY”
DESCRIPTION:Geförderte Unterstützung für Ihre Digitalisierungsprojekte\nMöchten Sie Ihre Software auf Sicherheitslücken analysieren oder überprüfen\, ob Ihre Apps den IT-Sicherheitsanforderungen entsprechen? \nProfitieren Sie in Ihrer Projektarbeit von den geförderten Angeboten des European Digital Innovation Hubs für Hessen! \nIn unserem Online-Event stellen Ihnen die EDITH-Konsortialpartner Oliver Küch\, Director Digital Hub Cybersecurity|ATHENE\, Innovations Manager Fraunhofer Instituts für Sichere Informationstechnologie (SIT) und Hauke Schlüter\, Geschäftsführer House of Digital Transformation (HoDT) ihre praxisnahen Services im Bereich CYBERSECURITY vor. \nAlle Mitglieder von HESSENMETALL können die Services kostenfrei oder zu reduzierten Preisen abrufen und so bei der Umsetzung von Digitalisierungsprojekten von EDITH profitieren. \n\nKostenfreie automatisierte Sicherheitsprüfung Ihrer Anwendung\nGezielte Nutzung des Softwarescanners VUSC\nHilfe beim Finden geeigneter Partner für Ihre Cybersecurity-Vorhaben\nUnterstützung beim Ausloten von Finanzierungsmöglichkeiten\nMitarbeiterschulungen\n\nHier geht es zur Anmeldung bei HESSENMETALL. \n\n\n\n\n\n\nKooperationspartner\nEDITH ist einer von derzeit rund 200 European Digital Innovation Hubs in ganz Europa\, die im Rahmen des Digital Europe-Programmes von der Europäischen Kommission co-gefördert werden. Die Mission ist es\, kleine und mittlere Unternehmen (KMU)\, Startups und Kommunen in ganz Hessen bei der Umsetzung ihrer Digitalisierungsvorhaben zu begleiten. Unter dem Dach von EDITH haben sich mit dem House of Digital Transformation e.V. (HoDT\, Konsortialführer)\, dem Fraunhofer-Institut für Sichere Informationstechnologie SIT\, dem GSI Helmholtzzentrum für Schwerionenforschung in Darmstadt\, dem Frankfurter TechQuartier sowie dem Hessischen Zentrum für Künstliche Intelligenz hessian.AI und dem Mittelstand-Digital Zentrum Darmstadt beste Kompetenzen auf dem Gebiet der Digitalisierung versammelt.
URL:https://arbeitgeber-nordhessen.de/veranstaltung/online-foerderimpuls-edith-services-cybersecurity/
LOCATION:Online
CATEGORIES:Arbeitgeberverband HESSENMETALL Nordhessen
ATTACH;FMTTYPE=image/jpeg:https://arbeitgeber-nordhessen.de/wp-content/uploads/2025/07/foerderimpuls.jpg
END:VEVENT
END:VCALENDAR