BEGIN:VCALENDAR
VERSION:2.0
PRODID:-//Arbeitgeber Nordhessen - ECPv6.15.20//NONSGML v1.0//EN
CALSCALE:GREGORIAN
METHOD:PUBLISH
X-WR-CALNAME:Arbeitgeber Nordhessen
X-ORIGINAL-URL:https://arbeitgeber-nordhessen.de
X-WR-CALDESC:Veranstaltungen für Arbeitgeber Nordhessen
REFRESH-INTERVAL;VALUE=DURATION:PT1H
X-Robots-Tag:noindex
X-PUBLISHED-TTL:PT1H
BEGIN:VTIMEZONE
TZID:Europe/Berlin
BEGIN:DAYLIGHT
TZOFFSETFROM:+0100
TZOFFSETTO:+0200
TZNAME:CEST
DTSTART:20240331T010000
END:DAYLIGHT
BEGIN:STANDARD
TZOFFSETFROM:+0200
TZOFFSETTO:+0100
TZNAME:CET
DTSTART:20241027T010000
END:STANDARD
BEGIN:DAYLIGHT
TZOFFSETFROM:+0100
TZOFFSETTO:+0200
TZNAME:CEST
DTSTART:20250330T010000
END:DAYLIGHT
BEGIN:STANDARD
TZOFFSETFROM:+0200
TZOFFSETTO:+0100
TZNAME:CET
DTSTART:20251026T010000
END:STANDARD
BEGIN:DAYLIGHT
TZOFFSETFROM:+0100
TZOFFSETTO:+0200
TZNAME:CEST
DTSTART:20260329T010000
END:DAYLIGHT
BEGIN:STANDARD
TZOFFSETFROM:+0200
TZOFFSETTO:+0100
TZNAME:CET
DTSTART:20261025T010000
END:STANDARD
END:VTIMEZONE
BEGIN:VEVENT
DTSTART;TZID=Europe/Berlin:20250825T131500
DTEND;TZID=Europe/Berlin:20250825T153000
DTSTAMP:20260421T051158
CREATED:20250618T102422Z
LAST-MODIFIED:20250730T071324Z
UID:4409478-1756127700-1756135800@arbeitgeber-nordhessen.de
SUMMARY:Kick Off SchulePlus (nur für geladene Gäste)
DESCRIPTION:Liebe Schüler und Schülerinnen\, liebe Eltern\, liebe Vertreter aus Schulen und Unternehmen\, \nkurz vor dem Start des diesjährigen SchulePlus Projektes (September 2025) möchten wir Sie ganz herzlich zu einer Kick Off Veranstaltung in unser Haus einladen. \nIm Anschluss an einen kleinen Mittagsimbiss stellen wir Ziele + Ablauf von SchulePlus vor und beantworten gerne Ihre und Eure offenen Fragen. \nFür unsere Planung bitten wir um Anmeldung\, vielen Dank! \n\nAnmeldung
URL:https://arbeitgeber-nordhessen.de/veranstaltung/kick-off-schuleplus-nur-fuer-geladene-gaeste-2/
LOCATION:HAUS DER ARBEITGEBERVERBÄNDE NORDHESSEN\, Karthäuserstr. 23\, Kassel\, 34117\, Deutschland
CATEGORIES:Arbeitgeberverband HESSENMETALL Nordhessen,SchulePlus,SCHULEWIRTSCHAFT,Unternehmerverband Nordhessen,Veranstaltungen,VhU Nordhessen
ATTACH;FMTTYPE=image/jpeg:https://arbeitgeber-nordhessen.de/wp-content/uploads/2025/01/Schule-Plus_mit-Bildlogo_2835x-2-scaled.jpg
ORGANIZER;CN="SCHULEWIRTSCHAFT Nordhessen":MAILTO:sw@arbeitgeber-nordhessen.de
END:VEVENT
END:VCALENDAR